BEGIN:VCALENDAR
VERSION:2.0
PRODID:-//NIOF
CALSCALE:GREGORIAN
METHOD:PUBLISH
X-WR-CALNAME:NIOF
X-ORIGINAL-URL:https://niof-eg.com/language/ar/event/%d8%a7%d9%84%d9%8a%d9%88%d9%85-%d8%a7%d9%84%d8%b9%d8%a7%d9%84%d9%85%d9%8a-%d9%84%d9%84%d9%85%d8%ad%d9%8a%d8%b7%d8%a7%d8%aa-%d8%a7%d9%84%d9%88%d9%8a%d8%a8%d9%86%d8%a7%d8%b1-%d8%a7%d9%84%d8%a7%d9%88/
X-WR-CALDESC:اليوم العالمي للمحيطات &#8220;الويبنار الاول تحت عنوان: Marine living Resources&#8221;
BEGIN:VEVENT
DTSTART:20210619T200000
DTEND:20210619T200000
SUMMARY:اليوم العالمي للمحيطات &#8220;الويبنار الاول تحت عنوان: Marine living Resources&#8221;
DESCRIPTION:
LOCATION:Qaitbay,Qesm Al Gomrok, Alexandria Governorate
END:VEVENT
END:VCALENDAR
