BEGIN:VCALENDAR
VERSION:2.0
PRODID:-//NIOF
CALSCALE:GREGORIAN
METHOD:PUBLISH
X-WR-CALNAME:NIOF
X-ORIGINAL-URL:https://niof-eg.com/language/ar/event/%d8%aa%d8%b1%d8%aa%d9%8a%d8%a8-%d8%a7%d9%84%d9%85%d8%ac%d9%84%d8%a7%d8%aa-%d8%a7%d9%84%d8%b9%d9%84%d9%85%d9%8a%d8%a9-%d9%88%d8%a7%d9%84%d9%86%d8%b4%d8%b1-%d8%a7%d9%84%d8%b9%d9%84%d9%85%d9%8a-%d8%a7/
X-WR-CALDESC:ترتيب المجلات العلمية والنشر العلمي المتميز
BEGIN:VEVENT
DTSTART:20201005T000000
DTEND:20201005T000000
SUMMARY:ترتيب المجلات العلمية والنشر العلمي المتميز
DESCRIPTION:Online Webinar 
LOCATION:
END:VEVENT
END:VCALENDAR
