BEGIN:VCALENDAR
VERSION:2.0
PRODID:-//NIOF
CALSCALE:GREGORIAN
METHOD:PUBLISH
X-WR-CALNAME:NIOF
X-ORIGINAL-URL:https://niof-eg.com/language/ar/event/%d8%aa%d8%a3%d8%ab%d9%8a%d8%b1%d8%a7%d8%aa-covid19-%d8%b9%d9%84%d9%89-%d8%a7%d9%84%d8%ad%d9%8a%d8%a7%d8%a9-%d8%a7%d9%84%d8%a8%d8%ad%d8%b1%d9%8a%d8%a9-%d9%88%d8%a7%d9%84%d8%a3%d9%86%d8%b4%d8%b7%d8%a9/
X-WR-CALDESC:تأثيرات Covid19 على الحياة البحرية والأنشطة البحرية
BEGIN:VEVENT
DTSTART:20200630T000000
DTEND:20200630T000000
SUMMARY:تأثيرات Covid19 على الحياة البحرية والأنشطة البحرية
DESCRIPTION:Online Webinar 
LOCATION:
END:VEVENT
END:VCALENDAR
