BEGIN:VCALENDAR
VERSION:2.0
PRODID:-//NIOF
CALSCALE:GREGORIAN
METHOD:PUBLISH
X-WR-CALNAME:NIOF
X-ORIGINAL-URL:https://niof-eg.com/language/ar/event/%d8%a7%d9%84%d9%8a%d9%88%d9%85-%d8%a7%d9%84%d8%b9%d8%a7%d9%84%d9%85%d9%89-%d9%84%d8%b8%d8%a7%d9%87%d8%b1%d8%a9-%d8%a7%d9%84%d8%aa%d8%b3%d9%88%d9%86%d8%a7%d9%85%d9%89/
X-WR-CALDESC:اليوم العالمى لظاهرة التسونامى
BEGIN:VEVENT
DTSTART:20160622T090000
DTEND:20160622T150000
SUMMARY:اليوم العالمى لظاهرة التسونامى
DESCRIPTION:جزء من فاعليات اليوم العالمى للتوعية بمخاطر التسونامى
LOCATION:Citadel of Qaitbay - El Anfoushi, Alexandria
END:VEVENT
END:VCALENDAR
