BEGIN:VCALENDAR
VERSION:2.0
PRODID:-//NIOF
CALSCALE:GREGORIAN
METHOD:PUBLISH
X-WR-CALNAME:NIOF
X-ORIGINAL-URL:https://niof-eg.com/language/ar/event/%d8%a7%d9%84%d9%85%d8%a4%d8%aa%d9%85%d8%b1-%d8%a7%d9%84%d8%a7%d9%81%d8%aa%d8%aa%d8%a7%d8%ad%d9%8a-%d8%a7%d9%84%d8%a3%d9%81%d8%b1%d9%8a%d9%82%d9%8a-%d9%84%d8%b9%d9%82%d8%af-%d8%a7%d9%84%d8%a3%d9%85/
X-WR-CALDESC:المؤتمر الافتتاحي الأفريقي لعقد الأمم المتحدة لعلوم المحيطات
BEGIN:VEVENT
DTSTART:20220510T090000
DTEND:20220512T170000
SUMMARY:المؤتمر الافتتاحي الأفريقي لعقد الأمم المتحدة لعلوم المحيطات
DESCRIPTION:
LOCATION:Citadel of Qaitbay - El Anfoushi, Alexandria
END:VEVENT
END:VCALENDAR
