BEGIN:VCALENDAR
VERSION:2.0
PRODID:-//NIOF
CALSCALE:GREGORIAN
METHOD:PUBLISH
X-WR-CALNAME:NIOF
X-ORIGINAL-URL:https://niof-eg.com/event/covid19-effects/
X-WR-CALDESC:Covid19 effects on marine life and marine activities
BEGIN:VEVENT
DTSTART:20200630T180000
DTEND:20200630T210000
SUMMARY:Covid19 effects on marine life and marine activities
DESCRIPTION:Online Webinar 
LOCATION:Online
END:VEVENT
END:VCALENDAR
