BEGIN:VCALENDAR
VERSION:2.0
PRODID:-//NIOF
CALSCALE:GREGORIAN
METHOD:PUBLISH
X-WR-CALNAME:NIOF
X-ORIGINAL-URL:https://niof-eg.com/event/the-world-tsunami/
X-WR-CALDESC:The World Tsunami Awareness Day
BEGIN:VEVENT
DTSTART:20201105T080000
DTEND:20201105T150000
SUMMARY:The World Tsunami Awareness Day
DESCRIPTION:Online Webinar 
LOCATION:Alexandria , EGYPT
END:VEVENT
END:VCALENDAR
