BEGIN:VCALENDAR
VERSION:2.0
PRODID:-//NIOF
CALSCALE:GREGORIAN
METHOD:PUBLISH
X-WR-CALNAME:NIOF
X-ORIGINAL-URL:https://niof-eg.com/event/scientific-journals-ranking/
X-WR-CALDESC:Scientific journals ranking &#038; distinguished scientific publication
BEGIN:VEVENT
DTSTART:20201005T090000
DTEND:20201005T160000
SUMMARY:Scientific journals ranking &#038; distinguished scientific publication
DESCRIPTION:Online Webinar 
LOCATION:Online
END:VEVENT
END:VCALENDAR
