BEGIN:VCALENDAR
VERSION:2.0
PRODID:-//NIOF
CALSCALE:GREGORIAN
METHOD:PUBLISH
X-WR-CALNAME:NIOF
X-ORIGINAL-URL:https://niof-eg.com/event/african-ocean-2022/
X-WR-CALDESC:African Ocean 2022 Conference
BEGIN:VEVENT
DTSTART:20220510T110000
DTEND:20220512T150000
SUMMARY:African Ocean 2022 Conference
DESCRIPTION:African kick-off Conference for the UN Decade of Ocean Science for Sustainable Development
LOCATION:Qaitbay,Qesm Al Gomrok, Alexandria Governorate
END:VEVENT
END:VCALENDAR
