BEGIN:VCALENDAR
VERSION:2.0
PRODID:-//NIOF
CALSCALE:GREGORIAN
METHOD:PUBLISH
X-WR-CALNAME:NIOF
X-ORIGINAL-URL:https://niof-eg.com/event/%d8%a5%d9%86%d8%b4%d8%a7%d8%a1-%d9%85%d8%b1%d9%83%d8%b2-%d8%a7%d9%84%d8%a7%d9%82%d8%aa%d8%b5%d8%a7%d8%af-%d8%a7%d9%84%d8%a3%d8%b2%d8%b1%d9%82-%d9%88%d8%a7%d9%84%d8%aa%d8%ba%d9%8a%d9%8a%d8%b1%d8%a7/
X-WR-CALDESC:إنشاء مركز الاقتصاد الأزرق والتغييرات المناخية للدول الأفريقية
BEGIN:VEVENT
DTSTART:
DTEND:
SUMMARY:إنشاء مركز الاقتصاد الأزرق والتغييرات المناخية للدول الأفريقية
DESCRIPTION:
LOCATION:
END:VEVENT
END:VCALENDAR
