BEGIN:VCALENDAR
VERSION:2.0
PRODID:-//NIOF
CALSCALE:GREGORIAN
METHOD:PUBLISH
X-WR-CALNAME:NIOF
X-ORIGINAL-URL:https://niof-eg.com/event/prof-hamouda-is-the-focal-point-of-ioc-in-egypt/
X-WR-CALDESC:Prof. Hamouda is the focal point of IOC in Egypt
BEGIN:VEVENT
DTSTART:
DTEND:
SUMMARY:Prof. Hamouda is the focal point of IOC in Egypt
DESCRIPTION:https://www.ioc.unesco.org/en/ioc-officers
LOCATION:
END:VEVENT
END:VCALENDAR
