BEGIN:VCALENDAR
VERSION:2.0
PRODID:-//NIOF
CALSCALE:GREGORIAN
METHOD:PUBLISH
X-WR-CALNAME:NIOF
X-ORIGINAL-URL:https://niof-eg.com/event/harmful-algal-blooms-under-climate-change/
X-WR-CALDESC:Harmful algal blooms under climate change
BEGIN:VEVENT
DTSTART:20221003T103000
DTEND:20221003T143000
SUMMARY:Harmful algal blooms under climate change
DESCRIPTION:
LOCATION:
END:VEVENT
END:VCALENDAR
