BEGIN:VCALENDAR
VERSION:2.0
PRODID:-//NIOF
CALSCALE:GREGORIAN
METHOD:PUBLISH
X-WR-CALNAME:NIOF
X-ORIGINAL-URL:https://niof-eg.com/event/fisheries-division-lecture-55/
X-WR-CALDESC:Fisheries Division Lecture 55
BEGIN:VEVENT
DTSTART:20221026T110000
DTEND:20221026T130000
SUMMARY:Fisheries Division Lecture 55
DESCRIPTION:
LOCATION:
END:VEVENT
END:VCALENDAR
