BEGIN:VCALENDAR
VERSION:2.0
PRODID:-//NIOF
CALSCALE:GREGORIAN
METHOD:PUBLISH
X-WR-CALNAME:NIOF
X-ORIGINAL-URL:https://niof-eg.com/event/post150/
X-WR-CALDESC:إعادة دولفين إلى البيئة البحرية بعد تعرضه لعضة سمكة قرش
BEGIN:VEVENT
DTSTART:
DTEND:
SUMMARY:إعادة دولفين إلى البيئة البحرية بعد تعرضه لعضة سمكة قرش
DESCRIPTION:
LOCATION:
END:VEVENT
END:VCALENDAR
