BEGIN:VCALENDAR
VERSION:2.0
PRODID:-//NIOF
CALSCALE:GREGORIAN
METHOD:PUBLISH
X-WR-CALNAME:NIOF
X-ORIGINAL-URL:https://niof-eg.com/event/137965/
X-WR-CALDESC:الملتقى العلمي الأول لشعبة البيئة البحرية
BEGIN:VEVENT
DTSTART:20220315T210000
DTEND:20220316T210000
SUMMARY:الملتقى العلمي الأول لشعبة البيئة البحرية
DESCRIPTION:
LOCATION:
END:VEVENT
END:VCALENDAR
