BEGIN:VCALENDAR
VERSION:2.0
PRODID:-//NIOF
CALSCALE:GREGORIAN
METHOD:PUBLISH
X-WR-CALNAME:NIOF
X-ORIGINAL-URL:https://niof-eg.com/event/committee-of-international-cooperation-3-2-2/
X-WR-CALDESC:The effect of harmful algal blooms on the marine environment
BEGIN:VEVENT
DTSTART:20210915T200000
DTEND:20210915T220000
SUMMARY:The effect of harmful algal blooms on the marine environment
DESCRIPTION:Online Webinar 
LOCATION:Alexandria , EGYPT
END:VEVENT
END:VCALENDAR
