BEGIN:VCALENDAR
VERSION:2.0
PRODID:-//NIOF
CALSCALE:GREGORIAN
METHOD:PUBLISH
X-WR-CALNAME:NIOF
X-ORIGINAL-URL:https://niof-eg.com/event/committee-of-international-cooperation-3/
X-WR-CALDESC:Committee of International Cooperation &#8211; lecture 3
BEGIN:VEVENT
DTSTART:20210913T190000
DTEND:20210913T200000
SUMMARY:Committee of International Cooperation &#8211; lecture 3
DESCRIPTION:Online Webinar 
LOCATION:Alexandria , EGYPT
END:VEVENT
END:VCALENDAR
