BEGIN:VCALENDAR
VERSION:2.0
PRODID:-//NIOF
CALSCALE:GREGORIAN
METHOD:PUBLISH
X-WR-CALNAME:NIOF
X-ORIGINAL-URL:https://niof-eg.com/event/african-ocean-2021-2/
X-WR-CALDESC:The World Oceans Day &#8221; The first webinar entitled: Marine living Resources&#8221;
BEGIN:VEVENT
DTSTART:20210619T200000
DTEND:20210619T200000
SUMMARY:The World Oceans Day &#8221; The first webinar entitled: Marine living Resources&#8221;
DESCRIPTION:the World Oceans Day
LOCATION:Qaitbay,Qesm Al Gomrok, Alexandria Governorate
END:VEVENT
END:VCALENDAR
